BEGIN:VCALENDAR
VERSION:2.0
PRODID:-//Vereinsring-Unterliederbach - ECPv6.15.20//NONSGML v1.0//EN
CALSCALE:GREGORIAN
METHOD:PUBLISH
X-ORIGINAL-URL:https://vereinsring-unterliederbach.de
X-WR-CALDESC:Veranstaltungen für Vereinsring-Unterliederbach
REFRESH-INTERVAL;VALUE=DURATION:PT1H
X-Robots-Tag:noindex
X-PUBLISHED-TTL:PT1H
BEGIN:VTIMEZONE
TZID:Europe/Berlin
BEGIN:DAYLIGHT
TZOFFSETFROM:+0100
TZOFFSETTO:+0200
TZNAME:CEST
DTSTART:20240331T010000
END:DAYLIGHT
BEGIN:STANDARD
TZOFFSETFROM:+0200
TZOFFSETTO:+0100
TZNAME:CET
DTSTART:20241027T010000
END:STANDARD
BEGIN:DAYLIGHT
TZOFFSETFROM:+0100
TZOFFSETTO:+0200
TZNAME:CEST
DTSTART:20250330T010000
END:DAYLIGHT
BEGIN:STANDARD
TZOFFSETFROM:+0200
TZOFFSETTO:+0100
TZNAME:CET
DTSTART:20251026T010000
END:STANDARD
BEGIN:DAYLIGHT
TZOFFSETFROM:+0100
TZOFFSETTO:+0200
TZNAME:CEST
DTSTART:20260329T010000
END:DAYLIGHT
BEGIN:STANDARD
TZOFFSETFROM:+0200
TZOFFSETTO:+0100
TZNAME:CET
DTSTART:20261025T010000
END:STANDARD
END:VTIMEZONE
BEGIN:VEVENT
DTSTART;TZID=Europe/Berlin:20250501T000000
DTEND;TZID=Europe/Berlin:20250501T235959
DTSTAMP:20260420T061308
CREATED:20250312T151649Z
LAST-MODIFIED:20250312T151653Z
UID:906-1746057600-1746143999@vereinsring-unterliederbach.de
SUMMARY:Grillfest  im Graubnerpark
DESCRIPTION:
URL:https://vereinsring-unterliederbach.de/event/grillfest-im-graubnerpark/
LOCATION:Vereinsringhaus\, Liederbacher Straße 137\, 65929 Frankfurt
END:VEVENT
BEGIN:VEVENT
DTSTART;TZID=Europe/Berlin:20250503T140000
DTEND;TZID=Europe/Berlin:20250503T200000
DTSTAMP:20260420T061308
CREATED:20240605T064535Z
LAST-MODIFIED:20241216T170640Z
UID:865-1746280800-1746302400@vereinsring-unterliederbach.de
SUMMARY:Frühlingsfest des HGV
DESCRIPTION:
URL:https://vereinsring-unterliederbach.de/event/fruehlingsfest-des-hgv/
END:VEVENT
END:VCALENDAR